BEGIN:VCALENDAR
VERSION:2.0
PRODID:-//GroupOne Services - ECPv6.15.20//NONSGML v1.0//EN
CALSCALE:GREGORIAN
METHOD:PUBLISH
X-ORIGINAL-URL:https://gp1.com
X-WR-CALDESC:Events for GroupOne Services
REFRESH-INTERVAL;VALUE=DURATION:PT1H
X-Robots-Tag:noindex
X-PUBLISHED-TTL:PT1H
BEGIN:VTIMEZONE
TZID:America/Chicago
BEGIN:DAYLIGHT
TZOFFSETFROM:-0600
TZOFFSETTO:-0500
TZNAME:CDT
DTSTART:20220313T080000
END:DAYLIGHT
BEGIN:STANDARD
TZOFFSETFROM:-0500
TZOFFSETTO:-0600
TZNAME:CST
DTSTART:20221106T070000
END:STANDARD
BEGIN:DAYLIGHT
TZOFFSETFROM:-0600
TZOFFSETTO:-0500
TZNAME:CDT
DTSTART:20230312T080000
END:DAYLIGHT
BEGIN:STANDARD
TZOFFSETFROM:-0500
TZOFFSETTO:-0600
TZNAME:CST
DTSTART:20231105T070000
END:STANDARD
BEGIN:DAYLIGHT
TZOFFSETFROM:-0600
TZOFFSETTO:-0500
TZNAME:CDT
DTSTART:20240310T080000
END:DAYLIGHT
BEGIN:STANDARD
TZOFFSETFROM:-0500
TZOFFSETTO:-0600
TZNAME:CST
DTSTART:20241103T070000
END:STANDARD
END:VTIMEZONE
BEGIN:VEVENT
DTSTART;VALUE=DATE:20231027
DTEND;VALUE=DATE:20231028
DTSTAMP:20260422T184537
CREATED:20230525T213115Z
LAST-MODIFIED:20230530T201936Z
UID:10000010-1698364800-1698451199@gp1.com
SUMMARY:Dallas Fort Worth Hospital Council\, 75th Anniversary\, Annual Awards Luncheon
DESCRIPTION: Annual recognition of health care and community leaders event.
URL:https://gp1.com/event/dallas-fort-worth-hospital-council-75th-anniversary-annual-awards-luncheon/
LOCATION:Irving Convention Center\, 500 W Las Colinas Blvd.\, Irving\, TX\, 75039\, United States
ATTACH;FMTTYPE=image/png:https://gp1.com/wp-content/uploads/2021/05/dfwhc.png
END:VEVENT
END:VCALENDAR